BEGIN:VCALENDAR
VERSION:2.0
PRODID:-//eventon.com NONSGML v1.0//EN
BEGIN:VEVENT
UID:69e5e8b35b09f
DTSTAMP:20260420T084955
DTSTART:20260417T191500Z
DTEND:20260417T220000Z
TZID:Europe/Paris
LOCATION:Centre de Sport et Loisirs Pesles Rue de la République 95590 Presles
SUMMARY:ZOZIOS MIGRATEURS
DESCRIPTION: L’association Les Zozios Migrateurs vous invite à sa soirée CréaZoz ! Quand : Vendredi 17 avril 2026 Où : Salles annexes du CSL – Presles A quelle heure : de 19h15 à 22h00 De jolies notes accrochées aux oreilles\,  des perles de sons autour du cou\,  des souvenirs aimantés au[..]\nhttps://tourisme-isleadam.fr/events/zozios-migrateurs/
URL:https://tourisme-isleadam.fr/events/zozios-migrateurs/
END:VEVENT
END:VCALENDAR