BEGIN:VCALENDAR
VERSION:2.0
PRODID:-//eventon.com NONSGML v1.0//EN
BEGIN:VEVENT
UID:69e8aad85cb5c
DTSTAMP:20260422T110248
DTSTART:20260412T100000Z
DTEND:20260412T180000Z
TZID:Europe/Paris
LOCATION:Espace Rive Gauche 2 rue des petits prés 95630 Mériel
SUMMARY:Rassemblement de voitures anciennes et d’exception
DESCRIPTION: Rassemblement de voitures anciennes et d’exception Le dimanche 12 avril 2026 10:00 Une journée dédiée à la passion automobile vous attend à Mériel. Dimanche 12 avril 2026\,  le parking de l’Espace Rive Gauche se transformera en véritable exposition à ciel ouvert réunissant des voitures emblématiques de différentes époques. Des modèles d’avant-guerre aux véhicules mythiques[..]\nhttps://tourisme-isleadam.fr/events/rassemblement-de-voitures-anciennes-et-dexception/
URL:https://tourisme-isleadam.fr/events/rassemblement-de-voitures-anciennes-et-dexception/
END:VEVENT
END:VCALENDAR