BEGIN:VCALENDAR
VERSION:2.0
PRODID:-//eventon.com NONSGML v1.0//EN
BEGIN:VEVENT
UID:69e8a3394a089
DTSTAMP:20260422T103017
DTSTART:20251122T193000Z
DTEND:20251122T233000Z
TZID:Europe/Paris
LOCATION:Béthemont-la-Forêt 
SUMMARY:Dégustons ensemble le Beaujolais Nouveau !
DESCRIPTION: Dégustons ensemble le Beaujolais Nouveau ! Le Comité des Fêtes de Béthemont-la-Forêt vous invite à partager un moment chaleureux autour de l’arrivée du Beaujolais Nouveau. 📅 Samedi 22 novembre 2025🕢 À partir de 19h30📍 Dans la cour de l’école de Béthemont-la-Forêt Venez en famille ou entre amis pour profiter d’une[..]\nhttps://tourisme-isleadam.fr/events/degustons-ensemble-le-beaujolais-nouveau/
URL:https://tourisme-isleadam.fr/events/degustons-ensemble-le-beaujolais-nouveau/
END:VEVENT
END:VCALENDAR