BEGIN:VCALENDAR
VERSION:2.0
PRODID:-//eventon.com NONSGML v1.0//EN
BEGIN:VEVENT
UID:69e73b9b745c0
DTSTAMP:20260421T085555
DTSTART:20251206T100000Z
DTEND:20251206T190000Z
TZID:Europe/Paris
LOCATION:Centre de Sport et Loisirs Presles Rue de la République 95590 Presles
SUMMARY:MARCHE DE NOEL PRESLES
DESCRIPTION: MARCHE DE NOEL PRESLES\nhttps://tourisme-isleadam.fr/events/marche-de-noel-presles-4/
URL:https://tourisme-isleadam.fr/events/marche-de-noel-presles-4/
END:VEVENT
END:VCALENDAR