BEGIN:VCALENDAR
VERSION:2.0
PRODID:-//eventon.com NONSGML v1.0//EN
BEGIN:VEVENT
UID:69e5e8e1428d2
DTSTAMP:20260420T085041
DTSTART:20251121T190000Z
DTEND:20251121T230000Z
TZID:Europe/Paris
LOCATION:Centre de Sport et Loisirs Presles Rue de la République 95590 Presles
SUMMARY:BEAUJOLAIS NOUVEAU
DESCRIPTION: BEAUJOLAIS NOUVEAU\nhttps://tourisme-isleadam.fr/events/beaujolais-nouveau-2/
URL:https://tourisme-isleadam.fr/events/beaujolais-nouveau-2/
END:VEVENT
END:VCALENDAR