BEGIN:VCALENDAR
VERSION:2.0
PRODID:-//eventon.com NONSGML v1.0//EN
BEGIN:VEVENT
UID:69e60001dc0be
DTSTAMP:20260420T102921
DTSTART:20260331T203000Z
DTEND:20260331T223000Z
TZID:Europe/Paris
LOCATION:Espace Rive Gauche 2 rue des petits prés 95630 Mériel
SUMMARY:Minotaure
DESCRIPTION: Minotaure Culture Le mardi 31 mars 2026 20:30 Mardi 31 mars 2026 – 20h30 MinotaureCompagnie ScénotonineGérard\,  diplomate nostalgique de la campagne\,  installe un tracteur Minotaure dans son salon parisien\,  provoquant l’horreur de sa femme Irène et les conseils étonnants de leurs amis snobs amateurs d’art contemporain. Une farce drôle sur le choc entre ville[..]\nhttps://tourisme-isleadam.fr/events/minotaure/
URL:https://tourisme-isleadam.fr/events/minotaure/
END:VEVENT
END:VCALENDAR