BEGIN:VCALENDAR
VERSION:2.0
PRODID:-//eventon.com NONSGML v1.0//EN
BEGIN:VEVENT
UID:69e88e0ea6964
DTSTAMP:20260422T085958
DTSTART:20260215T150000Z
DTEND:20260215T170000Z
TZID:Europe/Paris
LOCATION:La Scène Adamoise Parc Manchez\,  Avenue du Général de Gaulle\,  95290 L'Isle-Adam
SUMMARY:Le Plus Grand Cabaret Magique
DESCRIPTION: Le Plus Grand Cabaret Magique Dimanche 15 février 2026 à 15h Le Plus Grand Cabaret Magique fait son grand retour ! Magie\,  illusion\,  rire\,  poésie et émotion sont au rendez-vous pour un moment hors du commun !  Venez vivre une expérience unique où l’art du spectacle se met au service d’une[..]\nhttps://tourisme-isleadam.fr/events/le-plus-grand-cabaret-magique-2/
URL:https://tourisme-isleadam.fr/events/le-plus-grand-cabaret-magique-2/
END:VEVENT
END:VCALENDAR