BEGIN:VCALENDAR
VERSION:2.0
PRODID:-//eventon.com NONSGML v1.0//EN
BEGIN:VEVENT
UID:69e73bf70f113
DTSTAMP:20260421T085727
DTSTART:20250920T093000Z
DTEND:20250921T140000Z
TZID:Europe/Paris
LOCATION:Eglise Saint-Sulpice 12 rue Aristide-Briand\,  95840 Villiers-Adam
SUMMARY:VISITE GUIDÉE DE L’ÉGLISE SAINT-SULPICE
DESCRIPTION: Visite guidée de l’église avec possibilité de monter au clocher &#8211; Exposition Architectes et architectures &#8211; Vente de livres et de disques au profit de la réparation du portail de l’édifice\nhttps://tourisme-isleadam.fr/events/visite-guidee-de-leglise-saint-sulpice/
URL:https://tourisme-isleadam.fr/events/visite-guidee-de-leglise-saint-sulpice/
END:VEVENT
END:VCALENDAR