BEGIN:VCALENDAR
VERSION:2.0
PRODID:-//eventon.com NONSGML v1.0//EN
BEGIN:VEVENT
UID:69e8a2e78c474
DTSTAMP:20260422T102855
DTSTART:20250711T110000Z
DTEND:20250711T120000Z
TZID:Europe/Paris
LOCATION:Office de Tourisme Communautaire de L&#039;Isle-Adam 18 Avenue des Écuries de Conti
SUMMARY:Visite de ville - 11 Juillet
DESCRIPTION: 🏡✨ Partez à la découverte de L’Isle-Adam ! 🚶‍♂️🌳 Le 11 Juillet à 11h laissez-vous guider à travers les rues pavées et les quartiers bourgeois de L’Isle-Adam\,  une ville au charme intemporel où l’histoire et l’art de vivre se rencontrent. 🏘️🌿 🔍 Au programme : ✅ Une immersion dans la[..]\nhttps://tourisme-isleadam.fr/events/visite-de-ville-11-juillet/
URL:https://tourisme-isleadam.fr/events/visite-de-ville-11-juillet/
END:VEVENT
END:VCALENDAR