BEGIN:VCALENDAR
VERSION:2.0
PRODID:-//eventon.com NONSGML v1.0//EN
BEGIN:VEVENT
UID:69e704c1007d6
DTSTAMP:20260421T050153
DTSTART:20240921T150000Z
DTEND:20240922T180000Z
TZID:Europe/Paris
LOCATION:Eglise de Jouy-le-Comte 24 rue du Moulin 95620 Parmain
SUMMARY:ÉGLISE ST DENIS DE JOUY-LE-COMTE\,  VISITE DE 15H À 18H DURANT LES JOURNÉES DU PATRIMOINE
DESCRIPTION: L’église Saint Denis dans le quartier de Jouy-le-Comte à Parmain\,  des 12ème et 13ème siècles\,  classée monument historique\,  appartient à la commune de Parmain à la suite de la loi de 1905\,  loi de séparation des églises et de l’État. Depuis 1999\,  une association\,  l’AREJ\,  s’est formée afin d’aider la[..]\nhttps://tourisme-isleadam.fr/events/eglise-st-denis-de-jouy-le-comte-visite-de-15h-a-18h-durant-les-journees-du-patrimoine-2/
URL:https://tourisme-isleadam.fr/events/eglise-st-denis-de-jouy-le-comte-visite-de-15h-a-18h-durant-les-journees-du-patrimoine-2/
END:VEVENT
END:VCALENDAR