BEGIN:VCALENDAR
VERSION:2.0
PRODID:-//eventon.com NONSGML v1.0//EN
BEGIN:VEVENT
UID:69e5e8686387c
DTSTAMP:20260420T084840
DTSTART:20230603T110000Z
DTEND:20230603T160000Z
TZID:Europe/Paris
LOCATION:Pavillon Chinois 6 rue de Nogent
SUMMARY:JEU D'ENIGMES - PAVILLON CHINOIS
DESCRIPTION: 𝘓𝘦 𝘱𝘳𝘦𝘮𝘪𝘦𝘳 𝘫𝘦𝘶 𝘥’𝘦𝘯𝘪𝘨𝘮𝘦𝘴 𝘢𝘶 𝘗𝘢𝘷𝘪𝘭𝘭𝘰𝘯 𝘊𝘩𝘪𝘯𝘰𝘪𝘴 𝘦𝘴𝘵 𝘧𝘢𝘪𝘵 𝘱𝘰𝘶𝘳 𝘷𝘰𝘶𝘴! 𝘓’𝘦𝘲𝘶𝘪𝘭𝘪𝘣𝘳𝘦 𝘥𝘦𝘴 𝘦𝘭𝘦𝘮𝘦𝘯𝘵𝘴 𝘦𝘴𝘵 𝘱𝘦𝘳𝘵𝘶𝘳𝘣𝘦. 𝘜𝘯𝘦 𝘤𝘭𝘰𝘤𝘩𝘦 𝘥𝘶 𝘗𝘢𝘷𝘪𝘭𝘭𝘰𝘯 𝘊𝘩𝘪𝘯𝘰𝘪𝘴 𝘢 𝘦𝘵𝘦 𝘥𝘦𝘳𝘰𝘣𝘦𝘦 𝘢𝘶 𝘋𝘪𝘦𝘶 𝘥𝘦𝘴 𝘝𝘦𝘯𝘵𝘴. 𝘊’𝘦𝘴𝘵 𝘢 𝘷𝘰𝘶𝘴 𝘥𝘦 𝘳𝘦𝘵𝘢𝘣𝘭𝘪𝘳 𝘭’𝘩𝘢𝘳𝘮𝘰𝘯𝘪𝘦 𝘥𝘦𝘴 𝘭𝘪𝘦𝘶𝘹. 𝘓𝘦 𝘗𝘢𝘷𝘪𝘭𝘭𝘰𝘯 𝘊𝘩𝘪𝘯𝘰𝘪𝘴 𝘦𝘵 𝘴𝘰𝘯 𝘦𝘯𝘷𝘪𝘳𝘰𝘯𝘯𝘦𝘮𝘦𝘯𝘵 𝘱𝘳𝘪𝘷𝘪𝘭𝘦𝘨𝘪𝘦 𝘴𝘰𝘯𝘵 𝘢 𝘷𝘰𝘶𝘴 𝘭𝘦 𝘵𝘦𝘮𝘱𝘴 𝘥𝘶 𝘫𝘦𝘶[..]\nhttps://tourisme-isleadam.fr/events/jeu-denigmes-pavillon-chinois-5/
URL:https://tourisme-isleadam.fr/events/jeu-denigmes-pavillon-chinois-5/
END:VEVENT
END:VCALENDAR