BEGIN:VCALENDAR
VERSION:2.0
PRODID:-//eventon.com NONSGML v1.0//EN
BEGIN:VEVENT
UID:69e7536b87a20
DTSTAMP:20260421T103731
DTSTART:20230217T203000Z
DTEND:20230217T220000Z
TZID:Europe/Paris
LOCATION:
SUMMARY:Match d'improvisation théâtral
DESCRIPTION: Un match opposant deux équipes qui improvisent à partir de thèmes et de contraintes\,  le tout sous la houlette d’un arbitre impitoyable\,  c’est ce que vous propose la Bocal Compagnie. Un spectacle enjoué\,  interactif\,  et unique pour toute la famille. Qui l’emportera ? C’est vous\,  public\,  qui décidez ! &nbsp;[..]\nhttps://tourisme-isleadam.fr/events/match-dimprovisation-theatral/
URL:https://tourisme-isleadam.fr/events/match-dimprovisation-theatral/
END:VEVENT
END:VCALENDAR