BEGIN:VCALENDAR
VERSION:2.0
PRODID:-//eventon.com NONSGML v1.0//EN
BEGIN:VEVENT
UID:69e73f04092c9
DTSTAMP:20260421T091028
DTSTART:20230114T203000Z
DTEND:20230114T220000Z
TZID:Europe/Paris
LOCATION:La Scène Adamoise Parc Manchez\,  Avenue du Général de Gaulle\,  95290 L'Isle-Adam
SUMMARY:Grand concert du nouvel an 2023
DESCRIPTION: Sous la direction au violon d’Anne-Sophie Le Rol Haydn : Symphonie concertante Mozart : Symphonie 36 Haydn : Concerto pour trompette Solistes : Anne-Sophie Le Rol\,  violon Eric Levionois\,  Violoncelle Jean-François Duquesnoy\,  basson Jean-Marie Poupecin\,  hautbois Célestin Querin\,  trompette &nbsp; Tarif : 20€ &#8211; Gratuit pour les moins de 18 ans[..]\nhttps://tourisme-isleadam.fr/events/grand-concert-du-nouvel-an-2023/
URL:https://tourisme-isleadam.fr/events/grand-concert-du-nouvel-an-2023/
END:VEVENT
END:VCALENDAR